BEGIN:VCALENDAR
VERSION:2.0
PRODID:-//Regent Health Centre - ECPv6.15.18//NONSGML v1.0//EN
CALSCALE:GREGORIAN
METHOD:PUBLISH
X-WR-CALNAME:Regent Health Centre
X-ORIGINAL-URL:https://regenthealthcentre.ca
X-WR-CALDESC:Events for Regent Health Centre
REFRESH-INTERVAL;VALUE=DURATION:PT1H
X-Robots-Tag:noindex
X-PUBLISHED-TTL:PT1H
BEGIN:VTIMEZONE
TZID:America/New_York
BEGIN:DAYLIGHT
TZOFFSETFROM:-0500
TZOFFSETTO:-0400
TZNAME:EDT
DTSTART:20250309T070000
END:DAYLIGHT
BEGIN:STANDARD
TZOFFSETFROM:-0400
TZOFFSETTO:-0500
TZNAME:EST
DTSTART:20251102T060000
END:STANDARD
BEGIN:DAYLIGHT
TZOFFSETFROM:-0500
TZOFFSETTO:-0400
TZNAME:EDT
DTSTART:20260308T070000
END:DAYLIGHT
BEGIN:STANDARD
TZOFFSETFROM:-0400
TZOFFSETTO:-0500
TZNAME:EST
DTSTART:20261101T060000
END:STANDARD
BEGIN:DAYLIGHT
TZOFFSETFROM:-0500
TZOFFSETTO:-0400
TZNAME:EDT
DTSTART:20270314T070000
END:DAYLIGHT
BEGIN:STANDARD
TZOFFSETFROM:-0400
TZOFFSETTO:-0500
TZNAME:EST
DTSTART:20271107T060000
END:STANDARD
END:VTIMEZONE
BEGIN:VEVENT
DTSTART;TZID=America/New_York:20260423T090000
DTEND;TZID=America/New_York:20260423T100000
DTSTAMP:20260423T082153
CREATED:20260303T163451Z
LAST-MODIFIED:20260303T163453Z
UID:228026-1776934800-1776938400@regenthealthcentre.ca
SUMMARY:Virtual Pilates w Alisun
DESCRIPTION:This is a virtual Pilates class run via ZOOM. It is open to both beginner and intermediate students. You will establish core strength and stability\, balance and coordination\, improved posture and heightened mind-body awareness. \n\n\n\n8 week session runs from March 5 – April 23rd\, 2026 \n\n\n\nSPRING SESSION PRICING: $155+HST OR $300+HST (2 classes/week) \n\n\n\ndrop in fee $25.00 + HST (please book up to 4 hrs in advance or contact us if its last minute!) \n\n\n\nIf you miss a class during the 8-week session\, you can make it up with another class\, any week\, until the end of the session. \n\n\n\n\n\nBook Class
URL:https://regenthealthcentre.ca/class-schedule/virtual-pilates-w-alisun-8/
END:VEVENT
BEGIN:VEVENT
DTSTART;TZID=America/New_York:20260425T093000
DTEND;TZID=America/New_York:20260425T103000
DTSTAMP:20260423T082153
CREATED:20260324T002123Z
LAST-MODIFIED:20260324T002125Z
UID:228097-1777109400-1777113000@regenthealthcentre.ca
SUMMARY:Gentle Yoga w Lynn
DESCRIPTION:In this class Lynn will guide you through gentle yoga movements\, postures\, breathing and meditative practices. This class is designed to guide you safely and comfortably with the intention to help improve mobility\, circulation\, increase strength\, endurance and balance\, and to promote feelings of relaxed and calm awareness that can help you better manage feelings of stress and anxiety. \n\n\n\nThis class is suitable for beginners and those with yoga experience. \n\n\n\nCost: $20 drop in (including HST) or $177.50 for a 10 class pass \n\n\n\n\n\nBook Class
URL:https://regenthealthcentre.ca/class-schedule/gentle-yoga-w-lynn-7/
END:VEVENT
BEGIN:VEVENT
DTSTART;TZID=America/New_York:20260425T110000
DTEND;TZID=America/New_York:20260425T114500
DTSTAMP:20260423T082153
CREATED:20260311T133215Z
LAST-MODIFIED:20260311T133216Z
UID:228053-1777114800-1777117500@regenthealthcentre.ca
SUMMARY:Kids Yoga w Sarah
DESCRIPTION:Sarah’s Kid Yoga classes always encompass yoga storytelling\, mindful yoga movement games and creative take-home crafts. Children leave with a new found awareness for their emotions\, body & breath and often learn to use tools and tricks to help them regulate and navigate those big feelings throughout their day to day. \n\n\n\nJoin this 8-week Kid Yoga session for movement\, mindfulness and fun-filled games. Yogis learn the basics of yoga thru playful storytelling and yoga activities all aimed to target building confidence\, strength and improving body & emotional awareness. Ages 4-8 recommended. \n\n\n\nThis class is suitable for beginners and those with yoga experience. \n\n\n\n8 week session starts April 18 (no class on Saturday\, May 16th)$160 + HST ( 8 weeks) \n\n\n\n$22+ HST drop in \n\n\n\n\n\nBook Class
URL:https://regenthealthcentre.ca/class-schedule/kids-yoga-w-sarah-2/
END:VEVENT
BEGIN:VEVENT
DTSTART;TZID=America/New_York:20260425T120000
DTEND;TZID=America/New_York:20260425T124500
DTSTAMP:20260423T082153
CREATED:20260311T134624Z
LAST-MODIFIED:20260311T134626Z
UID:228070-1777118400-1777121100@regenthealthcentre.ca
SUMMARY:Youth Yoga w Sarah
DESCRIPTION:Youth Yoga is an introductory youth program designed for tweens/teens to learn about the basics of a vinyasa yoga practice with option to be alongside their caregivers. Yogis learn the mechanics of a yoga flow\, breathe control\, poses\, beginners meditation practices and mindful techniques.  \n\n\n\nClasses often set to T.Swift 🎵 tunes and candlelight. What a great way to spend time bonding with your tween or as a group of friends! Class is not heated. Option to attend with parent or teen only. Ages 8+ \n\n\n\nThis class is suitable for beginners and those with yoga experience. \n\n\n\n8 week session starts April 18 (no class on Saturday\, May 16th)$112 + HST ( 8 weeks)$15+ HST (drop in) \n\n\n\n\n\nBook Class
URL:https://regenthealthcentre.ca/class-schedule/youth-yoga-w-sarah-2/
END:VEVENT
BEGIN:VEVENT
DTSTART;TZID=America/New_York:20260427T173000
DTEND;TZID=America/New_York:20260427T183000
DTSTAMP:20260423T082153
CREATED:20260324T164542Z
LAST-MODIFIED:20260324T164543Z
UID:228149-1777311000-1777314600@regenthealthcentre.ca
SUMMARY:Yoga Nidra w Lynn
DESCRIPTION:This Yoga Nidra series is designed to to help you improve your quality of sleep\, reduce feelings of stress and foster feelings of calmness and wellbeing. \n\n\n\nYoga Nidra is a form of deep relaxation and meditation technique where\, while lying in a comfortable position you will be guided through the state of consciousness between waking and sleeping with instructions similar to a guided meditation. You will be asked to become aware of different bodily sensations\, emotions\, thoughts and images. This deep state of relaxation of body and mind helps us to regulate our interoceptive awareness\, facilitating our ability to come to a balanced state of being; calm and aware. \n\n\n\nThe practice will begin with some gentle movements to release some tension from the body and mind\, followed by the Yoga Nidra practice approximately 40 mins\, then a few minutes to journal or draw mandalas which will help to integrate the Yoga Nidra experience further. \n\n\n\nCost: $20 drop in (including HST) or $177.50 for 10 class pass \n\n\n\n\n\nBook Class
URL:https://regenthealthcentre.ca/class-schedule/yoga-nidra-w-lynn-5/
END:VEVENT
BEGIN:VEVENT
DTSTART;TZID=America/New_York:20260428T090000
DTEND;TZID=America/New_York:20260428T100000
DTSTAMP:20260423T082153
CREATED:20260422T141519Z
LAST-MODIFIED:20260422T141521Z
UID:228259-1777366800-1777370400@regenthealthcentre.ca
SUMMARY:Fascial Flow & Pilates w Alisun
DESCRIPTION:Feeling tight all over? Unexplained muscle pains? Fascial movement can help! This class is a combination of both Pilates and Fascial movement. We strengthen and hydrate the fascial system to promote muscle glide and an ease of motion. These movements will enhance your mobility\, strength and durability and make you feel lighter! All levels are welcome. \n\n\n\n8 week session runs April 28 – June 16th\, 2026 \n\n\n\nSPRING SESSION : $ 155 + HST \n\n\n\ndrop in fee $25.00 + HST (please book 4 hrs in advance\, contact us if its last minute – 12 h cancellation policy applies) \n\n\n\nThis class is run in-person at the Centre as well as online! \n\n\n\nIf you need to miss a scheduled class during your session you can make it up with another class any week during the session. \n\n\n\n\n\nBook Class
URL:https://regenthealthcentre.ca/class-schedule/fascial-flow-pilates-w-alisun-16/
END:VEVENT
BEGIN:VEVENT
DTSTART;TZID=America/New_York:20260428T183000
DTEND;TZID=America/New_York:20260428T193000
DTSTAMP:20260423T082153
CREATED:20260324T001013Z
LAST-MODIFIED:20260324T001015Z
UID:228089-1777401000-1777404600@regenthealthcentre.ca
SUMMARY:Gentle Yoga Flow w Kim
DESCRIPTION:Gentle Flow Yoga is a class designed for all bodies at any level of mobility\, with or without experience. The intention for this program is to get people breathing deeply and efficiently while moving through their daily activities with less pain and restriction. We focus on building more confident movement through observing and learning from ourselves each and every practice. \n\n\n\nGentle Flow Yoga explores movement linked with our own unique rhythym of breath. Modifications are available. Previous yoga experience is not necessary. Dialogue and feedback are encouraged as a means to deeper understanding of our physical potential and emotional well-being. \n\n\n\nCome and join the growing community of warm and welcoming students in our class \n\n\n\n$20.00 drop-in rate (including HST) or 10 class pass for $177.50 \n\n\n\n\n\nBook Class\n\n\n\nContact Kim
URL:https://regenthealthcentre.ca/class-schedule/gentle-yoga-flow-w-kim-7/
END:VEVENT
BEGIN:VEVENT
DTSTART;TZID=America/New_York:20260429T180000
DTEND;TZID=America/New_York:20260429T190000
DTSTAMP:20260423T082153
CREATED:20260422T142521Z
LAST-MODIFIED:20260422T142523Z
UID:228275-1777485600-1777489200@regenthealthcentre.ca
SUMMARY:All Levels Pilates Matwork w Alisun
DESCRIPTION:This class is open to beginner and intermediate students alike. You will establish core strength & stability\, balance and coordination\, improve your posture and heighten your mind-body awareness. \n\n\n\n8 week session runs from April 29th – June 17th\, 2026 \n\n\n\nSPRING SESSION PRICING: $155+HST or $300+HST (2 classes per week) \n\n\n\ndrop in fee $25.00 + HST (sign up online until 4 hrs before class or contact us if it’s last minute\, 12 h cancellation policy applies) \n\n\n\nThis class is run in person at the Centre as well as online \n\n\n\nIf you miss a class during the 8-week session\, you can make it up with another class\, any week\, until the end of the session. \n\n\n\n\n\nBook Class
URL:https://regenthealthcentre.ca/class-schedule/all-levels-pilates-matwork-w-alisun-20/
END:VEVENT
BEGIN:VEVENT
DTSTART;TZID=America/New_York:20260430T090000
DTEND;TZID=America/New_York:20260430T100000
DTSTAMP:20260423T082153
CREATED:20260422T143259Z
LAST-MODIFIED:20260422T143301Z
UID:228291-1777539600-1777543200@regenthealthcentre.ca
SUMMARY:Virtual Pilates w Alisun
DESCRIPTION:This is a virtual Pilates class run via ZOOM. It is open to both beginner and intermediate students. You will establish core strength and stability\, balance and coordination\, improved posture and heightened mind-body awareness. \n\n\n\n8 week session runs from April 30th – June 18th\, 2026 \n\n\n\nSPRING SESSION PRICING: $155+HST OR $300+HST (2 classes/week) \n\n\n\ndrop in fee $25.00 + HST (please book up to 4 hrs in advance or contact us if its last minute!) \n\n\n\nIf you miss a class during the 8-week session\, you can make it up with another class\, any week\, until the end of the session. \n\n\n\n\n\nBook Class
URL:https://regenthealthcentre.ca/class-schedule/virtual-pilates-w-alisun-9/
END:VEVENT
BEGIN:VEVENT
DTSTART;TZID=America/New_York:20260430T190000
DTEND;TZID=America/New_York:20260430T200000
DTSTAMP:20260423T082153
CREATED:20260412T160200Z
LAST-MODIFIED:20260412T160202Z
UID:228176-1777575600-1777579200@regenthealthcentre.ca
SUMMARY:Introduction to Mindfulness Meditation
DESCRIPTION:Join us for a 6-week course – an introduction to Mindfulness Meditation at the Regent Health Centre \n\n\n\nThursday April 30 – June 4 @ 7:00 pm \n\n\n\nCost: $60 for 6-week program \n\n\n\nTo register or for more information please email: mindfulnessinhamilton@gmail.com
URL:https://regenthealthcentre.ca/class-schedule/introduction-to-mindfulness-meditation/
END:VEVENT
END:VCALENDAR