BEGIN:VCALENDAR
VERSION:2.0
PRODID:-//Regent Health Centre - ECPv6.15.18//NONSGML v1.0//EN
CALSCALE:GREGORIAN
METHOD:PUBLISH
X-WR-CALNAME:Regent Health Centre
X-ORIGINAL-URL:https://regenthealthcentre.ca
X-WR-CALDESC:Events for Regent Health Centre
REFRESH-INTERVAL;VALUE=DURATION:PT1H
X-Robots-Tag:noindex
X-PUBLISHED-TTL:PT1H
BEGIN:VTIMEZONE
TZID:America/New_York
BEGIN:DAYLIGHT
TZOFFSETFROM:-0500
TZOFFSETTO:-0400
TZNAME:EDT
DTSTART:20240310T070000
END:DAYLIGHT
BEGIN:STANDARD
TZOFFSETFROM:-0400
TZOFFSETTO:-0500
TZNAME:EST
DTSTART:20241103T060000
END:STANDARD
BEGIN:DAYLIGHT
TZOFFSETFROM:-0500
TZOFFSETTO:-0400
TZNAME:EDT
DTSTART:20250309T070000
END:DAYLIGHT
BEGIN:STANDARD
TZOFFSETFROM:-0400
TZOFFSETTO:-0500
TZNAME:EST
DTSTART:20251102T060000
END:STANDARD
BEGIN:DAYLIGHT
TZOFFSETFROM:-0500
TZOFFSETTO:-0400
TZNAME:EDT
DTSTART:20260308T070000
END:DAYLIGHT
BEGIN:STANDARD
TZOFFSETFROM:-0400
TZOFFSETTO:-0500
TZNAME:EST
DTSTART:20261101T060000
END:STANDARD
END:VTIMEZONE
BEGIN:VEVENT
DTSTART;TZID=America/New_York:20251201T130000
DTEND;TZID=America/New_York:20251201T140000
DTSTAMP:20260424T084952
CREATED:20251201T095300Z
LAST-MODIFIED:20251202T041308Z
UID:221899-1764594000-1764597600@regenthealthcentre.ca
SUMMARY:TAI CHI: Qi Gong w Melissa
DESCRIPTION:What the heck is Qigong? In many ways\, it’s the foundation of Tai Chi\, and is its own form of self-healing and meditation. Qigong consists of simple exercises that build strength\, increase flexibility\, and help reset your body and mind to their naturally relaxed and happy state. Unlike Tai Chi\, Qigong is not a martial art\, although some of the movements have martial-art-like qualities. If you’re pressed for time\, and not sure you can attend classes consistently\, or if you’re dealing with a health challenge or stress overload\, this is a great place to start. \n\n\n\n$20.00 + HST single class or a December monthly pass for $60 + HST \n\n\n\n\n\nBook Class
URL:https://regenthealthcentre.ca/class-schedule/tai-chi-qi-gong-w-melissa/
END:VEVENT
BEGIN:VEVENT
DTSTART;TZID=America/New_York:20251201T113000
DTEND;TZID=America/New_York:20251201T123000
DTSTAMP:20260424T084952
CREATED:20251201T095000Z
LAST-MODIFIED:20251202T041541Z
UID:221897-1764588600-1764592200@regenthealthcentre.ca
SUMMARY:TAI CHI: Beginner Tai Chi w Marilyn
DESCRIPTION:Tai Chi is a great tool for releasing stale tensions while developing a better relationship with your body. Learning it challenges coordination and concentration\, and helps initiate a host of healing responses. It is a form of meditation\, and it helps condition the body so that stillness meditation practices\, should you wish to do them\, become easier and more comfortable. This class offers step-by-step instruction in the Tai Chi set. It’s the place to start if you’ve never tried Tai Chi before. Our Tai Chi set is a 108-form. \n\n\n\n$20.00 + HST single class or a December monthly pass for $60 + HST \n\n\n\n\n\nBook Class
URL:https://regenthealthcentre.ca/class-schedule/tai-chi-beginner-tai-chi-w-marilyn/
END:VEVENT
END:VCALENDAR