BEGIN:VCALENDAR
VERSION:2.0
PRODID:-//Regent Health Centre - ECPv6.15.18//NONSGML v1.0//EN
CALSCALE:GREGORIAN
METHOD:PUBLISH
X-ORIGINAL-URL:https://regenthealthcentre.ca
X-WR-CALDESC:Events for Regent Health Centre
REFRESH-INTERVAL;VALUE=DURATION:PT1H
X-Robots-Tag:noindex
X-PUBLISHED-TTL:PT1H
BEGIN:VTIMEZONE
TZID:America/New_York
BEGIN:DAYLIGHT
TZOFFSETFROM:-0500
TZOFFSETTO:-0400
TZNAME:EDT
DTSTART:20250309T070000
END:DAYLIGHT
BEGIN:STANDARD
TZOFFSETFROM:-0400
TZOFFSETTO:-0500
TZNAME:EST
DTSTART:20251102T060000
END:STANDARD
BEGIN:DAYLIGHT
TZOFFSETFROM:-0500
TZOFFSETTO:-0400
TZNAME:EDT
DTSTART:20260308T070000
END:DAYLIGHT
BEGIN:STANDARD
TZOFFSETFROM:-0400
TZOFFSETTO:-0500
TZNAME:EST
DTSTART:20261101T060000
END:STANDARD
BEGIN:DAYLIGHT
TZOFFSETFROM:-0500
TZOFFSETTO:-0400
TZNAME:EDT
DTSTART:20270314T070000
END:DAYLIGHT
BEGIN:STANDARD
TZOFFSETFROM:-0400
TZOFFSETTO:-0500
TZNAME:EST
DTSTART:20271107T060000
END:STANDARD
END:VTIMEZONE
BEGIN:VEVENT
DTSTART;TZID=America/New_York:20260507T090000
DTEND;TZID=America/New_York:20260507T100000
DTSTAMP:20260423T113617
CREATED:20260422T143356Z
LAST-MODIFIED:20260422T143358Z
UID:228293-1778144400-1778148000@regenthealthcentre.ca
SUMMARY:Virtual Pilates w Alisun
DESCRIPTION:This is a virtual Pilates class run via ZOOM. It is open to both beginner and intermediate students. You will establish core strength and stability\, balance and coordination\, improved posture and heightened mind-body awareness. \n\n\n\n8 week session runs from April 30th – June 18th\, 2026 \n\n\n\nSPRING SESSION PRICING: $155+HST OR $300+HST (2 classes/week) \n\n\n\ndrop in fee $25.00 + HST (please book up to 4 hrs in advance or contact us if its last minute!) \n\n\n\nIf you miss a class during the 8-week session\, you can make it up with another class\, any week\, until the end of the session. \n\n\n\n\n\nBook Class
URL:https://regenthealthcentre.ca/class-schedule/virtual-pilates-w-alisun-10/
END:VEVENT
BEGIN:VEVENT
DTSTART;TZID=America/New_York:20260507T170000
DTEND;TZID=America/New_York:20260507T181500
DTSTAMP:20260423T113617
CREATED:20260413T131424Z
LAST-MODIFIED:20260413T131426Z
UID:228217-1778173200-1778177700@regenthealthcentre.ca
SUMMARY:Beginner Tai Chi w Sam
DESCRIPTION:Tai Chi is a great tool for releasing stale tensions while developing a better relationship with your body. Learning it challenges coordination and concentration\, and helps initiate a host of healing responses. It is a form of meditation\, and it helps condition the body so that stillness meditation practices\, should you wish to do them\, become easier and more comfortable. This class offers step-by-step instruction in the Tai Chi set. It’s the place to start if you’ve never tried Tai Chi before. Our Tai Chi set is a 108-form. \n\n\n\n$20.00 + HST single class or a monthly pass for $80 + HST \n\n\n\n\n\nBook Class
URL:https://regenthealthcentre.ca/class-schedule/beginner-tai-chi-w-sam-4/
END:VEVENT
BEGIN:VEVENT
DTSTART;TZID=America/New_York:20260507T190000
DTEND;TZID=America/New_York:20260507T200000
DTSTAMP:20260423T113617
CREATED:20260412T160343Z
LAST-MODIFIED:20260412T160345Z
UID:228181-1778180400-1778184000@regenthealthcentre.ca
SUMMARY:Introduction to Mindfulness Meditation
DESCRIPTION:Join us for a 6-week course – an introduction to Mindfulness Meditation at the Regent Health Centre \n\n\n\nThursday April 30 – June 4 @ 7:00 pm \n\n\n\nCost: $60 for 6-week program \n\n\n\nTo register or for more information please email: mindfulnessinhamilton@gmail.com
URL:https://regenthealthcentre.ca/class-schedule/introduction-to-mindfulness-meditation-2/
END:VEVENT
END:VCALENDAR