BEGIN:VCALENDAR
VERSION:2.0
PRODID:-//Regent Health Centre - ECPv6.15.18//NONSGML v1.0//EN
CALSCALE:GREGORIAN
METHOD:PUBLISH
X-WR-CALNAME:Regent Health Centre
X-ORIGINAL-URL:https://regenthealthcentre.ca
X-WR-CALDESC:Events for Regent Health Centre
REFRESH-INTERVAL;VALUE=DURATION:PT1H
X-Robots-Tag:noindex
X-PUBLISHED-TTL:PT1H
BEGIN:VTIMEZONE
TZID:America/New_York
BEGIN:DAYLIGHT
TZOFFSETFROM:-0500
TZOFFSETTO:-0400
TZNAME:EDT
DTSTART:20250309T070000
END:DAYLIGHT
BEGIN:STANDARD
TZOFFSETFROM:-0400
TZOFFSETTO:-0500
TZNAME:EST
DTSTART:20251102T060000
END:STANDARD
BEGIN:DAYLIGHT
TZOFFSETFROM:-0500
TZOFFSETTO:-0400
TZNAME:EDT
DTSTART:20260308T070000
END:DAYLIGHT
BEGIN:STANDARD
TZOFFSETFROM:-0400
TZOFFSETTO:-0500
TZNAME:EST
DTSTART:20261101T060000
END:STANDARD
BEGIN:DAYLIGHT
TZOFFSETFROM:-0500
TZOFFSETTO:-0400
TZNAME:EDT
DTSTART:20270314T070000
END:DAYLIGHT
BEGIN:STANDARD
TZOFFSETFROM:-0400
TZOFFSETTO:-0500
TZNAME:EST
DTSTART:20271107T060000
END:STANDARD
END:VTIMEZONE
BEGIN:VEVENT
DTSTART;TZID=America/New_York:20260429T180000
DTEND;TZID=America/New_York:20260429T190000
DTSTAMP:20260423T094106
CREATED:20260422T142521Z
LAST-MODIFIED:20260422T142523Z
UID:228275-1777485600-1777489200@regenthealthcentre.ca
SUMMARY:All Levels Pilates Matwork w Alisun
DESCRIPTION:This class is open to beginner and intermediate students alike. You will establish core strength & stability\, balance and coordination\, improve your posture and heighten your mind-body awareness. \n\n\n\n8 week session runs from April 29th – June 17th\, 2026 \n\n\n\nSPRING SESSION PRICING: $155+HST or $300+HST (2 classes per week) \n\n\n\ndrop in fee $25.00 + HST (sign up online until 4 hrs before class or contact us if it’s last minute\, 12 h cancellation policy applies) \n\n\n\nThis class is run in person at the Centre as well as online \n\n\n\nIf you miss a class during the 8-week session\, you can make it up with another class\, any week\, until the end of the session. \n\n\n\n\n\nBook Class
URL:https://regenthealthcentre.ca/class-schedule/all-levels-pilates-matwork-w-alisun-20/
END:VEVENT
END:VCALENDAR