BEGIN:VCALENDAR
VERSION:2.0
PRODID:-//Regent Health Centre - ECPv6.15.18//NONSGML v1.0//EN
CALSCALE:GREGORIAN
METHOD:PUBLISH
X-WR-CALNAME:Regent Health Centre
X-ORIGINAL-URL:https://regenthealthcentre.ca
X-WR-CALDESC:Events for Regent Health Centre
REFRESH-INTERVAL;VALUE=DURATION:PT1H
X-Robots-Tag:noindex
X-PUBLISHED-TTL:PT1H
BEGIN:VTIMEZONE
TZID:America/New_York
BEGIN:DAYLIGHT
TZOFFSETFROM:-0500
TZOFFSETTO:-0400
TZNAME:EDT
DTSTART:20250309T070000
END:DAYLIGHT
BEGIN:STANDARD
TZOFFSETFROM:-0400
TZOFFSETTO:-0500
TZNAME:EST
DTSTART:20251102T060000
END:STANDARD
BEGIN:DAYLIGHT
TZOFFSETFROM:-0500
TZOFFSETTO:-0400
TZNAME:EDT
DTSTART:20260308T070000
END:DAYLIGHT
BEGIN:STANDARD
TZOFFSETFROM:-0400
TZOFFSETTO:-0500
TZNAME:EST
DTSTART:20261101T060000
END:STANDARD
BEGIN:DAYLIGHT
TZOFFSETFROM:-0500
TZOFFSETTO:-0400
TZNAME:EDT
DTSTART:20270314T070000
END:DAYLIGHT
BEGIN:STANDARD
TZOFFSETFROM:-0400
TZOFFSETTO:-0500
TZNAME:EST
DTSTART:20271107T060000
END:STANDARD
END:VTIMEZONE
BEGIN:VEVENT
DTSTART;TZID=America/New_York:20260404T093000
DTEND;TZID=America/New_York:20260404T103000
DTSTAMP:20260423T094831
CREATED:20260324T001405Z
LAST-MODIFIED:20260324T001407Z
UID:228091-1775295000-1775298600@regenthealthcentre.ca
SUMMARY:Gentle Yoga w Lynn
DESCRIPTION:In this class Lynn will guide you through gentle yoga movements\, postures\, breathing and meditative practices. This class is designed to guide you safely and comfortably with the intention to help improve mobility\, circulation\, increase strength\, endurance and balance\, and to promote feelings of relaxed and calm awareness that can help you better manage feelings of stress and anxiety. \n\n\n\nThis class is suitable for beginners and those with yoga experience. \n\n\n\nCost: $20 drop in (including HST) or $177.50 for a 10 class pass \n\n\n\n\n\nBook Class
URL:https://regenthealthcentre.ca/class-schedule/gentle-yoga-w-lynn-4/
END:VEVENT
BEGIN:VEVENT
DTSTART;TZID=America/New_York:20260404T130000
DTEND;TZID=America/New_York:20260404T140000
DTSTAMP:20260423T094832
CREATED:20260324T163415Z
LAST-MODIFIED:20260324T163416Z
UID:228133-1775307600-1775311200@regenthealthcentre.ca
SUMMARY:Beginner Tai Chi w Melissa
DESCRIPTION:Tai Chi is a great tool for releasing stale tensions while developing a better relationship with your body. Learning it challenges coordination and concentration\, and helps initiate a host of healing responses. It is a form of meditation\, and it helps condition the body so that stillness meditation practices\, should you wish to do them\, become easier and more comfortable. This class offers step-by-step instruction in the Tai Chi set. It’s the place to start if you’ve never tried Tai Chi before. Our Tai Chi set is a 108-form. \n\n\n\nOur Tai Chi instructors are taking a much deserved break and there will be no class April 23rd – May 2nd inclusive \n\n\n\n$20.00 + HST single class or an April monthly pass for $60 + HST \n\n\n\n\n\nBook Class
URL:https://regenthealthcentre.ca/class-schedule/beginner-tai-chi-w-melissa-5/
END:VEVENT
BEGIN:VEVENT
DTSTART;TZID=America/New_York:20260404T141500
DTEND;TZID=America/New_York:20260404T154500
DTSTAMP:20260423T094832
CREATED:20260324T163536Z
LAST-MODIFIED:20260324T163538Z
UID:228135-1775312100-1775317500@regenthealthcentre.ca
SUMMARY:Continuing Tai Chi w Melissa
DESCRIPTION:This class is for people who have already learned the Tai Chi set. Ours is a 108-form set. Even if it’s been a while since you practiced\, you’re very welcome to attend these classes\, as long as you have some familiarity with our form. If you’ve learned most of the set through a Beginner’s class\, this class is appropriate for you\, even if you don’t have the set memorized. \n\n\n\nOur Tai Chi instructors are taking a much deserved break and there will be no class April 23rd – May 2nd inclusive \n\n\n\n$20.00 + HST single class or an April monthly pass for $60 + HST \n\n\n\n\n\nBook Class
URL:https://regenthealthcentre.ca/class-schedule/continuing-tai-chi-w-melissa-18/
END:VEVENT
END:VCALENDAR