BEGIN:VCALENDAR
VERSION:2.0
PRODID:-//Regent Health Centre - ECPv6.15.18//NONSGML v1.0//EN
CALSCALE:GREGORIAN
METHOD:PUBLISH
X-WR-CALNAME:Regent Health Centre
X-ORIGINAL-URL:https://regenthealthcentre.ca
X-WR-CALDESC:Events for Regent Health Centre
REFRESH-INTERVAL;VALUE=DURATION:PT1H
X-Robots-Tag:noindex
X-PUBLISHED-TTL:PT1H
BEGIN:VTIMEZONE
TZID:America/New_York
BEGIN:DAYLIGHT
TZOFFSETFROM:-0500
TZOFFSETTO:-0400
TZNAME:EDT
DTSTART:20250309T070000
END:DAYLIGHT
BEGIN:STANDARD
TZOFFSETFROM:-0400
TZOFFSETTO:-0500
TZNAME:EST
DTSTART:20251102T060000
END:STANDARD
BEGIN:DAYLIGHT
TZOFFSETFROM:-0500
TZOFFSETTO:-0400
TZNAME:EDT
DTSTART:20260308T070000
END:DAYLIGHT
BEGIN:STANDARD
TZOFFSETFROM:-0400
TZOFFSETTO:-0500
TZNAME:EST
DTSTART:20261101T060000
END:STANDARD
BEGIN:DAYLIGHT
TZOFFSETFROM:-0500
TZOFFSETTO:-0400
TZNAME:EDT
DTSTART:20270314T070000
END:DAYLIGHT
BEGIN:STANDARD
TZOFFSETFROM:-0400
TZOFFSETTO:-0500
TZNAME:EST
DTSTART:20271107T060000
END:STANDARD
END:VTIMEZONE
BEGIN:VEVENT
DTSTART;TZID=America/New_York:20260320T130000
DTEND;TZID=America/New_York:20260320T150000
DTSTAMP:20260423T113448
CREATED:20260303T015017Z
LAST-MODIFIED:20260303T015019Z
UID:227983-1774011600-1774018800@regenthealthcentre.ca
SUMMARY:Continuing Tai Chi w Melissa
DESCRIPTION:This class is for people who have already learned the Tai Chi set. Ours is a 108-form set. Even if it’s been a while since you practiced\, you’re very welcome to attend these classes\, as long as you have some familiarity with our form. If you’ve learned most of the set through a Beginner’s class\, this class is appropriate for you\, even if you don’t have the set memorized. \n\n\n\nOur Tai Chi instructors are taking a much deserved break and there will be no class April 23rd – May 2nd inclusive \n\n\n\n$20.00 + HST single class or an April monthly pass for $60 + HST \n\n\n\n\n\nBook Class
URL:https://regenthealthcentre.ca/class-schedule/continuing-tai-chi-w-melissa-7/
END:VEVENT
END:VCALENDAR