BEGIN:VCALENDAR
VERSION:2.0
PRODID:-//Regent Health Centre - ECPv6.15.18//NONSGML v1.0//EN
CALSCALE:GREGORIAN
METHOD:PUBLISH
X-WR-CALNAME:Regent Health Centre
X-ORIGINAL-URL:https://regenthealthcentre.ca
X-WR-CALDESC:Events for Regent Health Centre
REFRESH-INTERVAL;VALUE=DURATION:PT1H
X-Robots-Tag:noindex
X-PUBLISHED-TTL:PT1H
BEGIN:VTIMEZONE
TZID:America/New_York
BEGIN:DAYLIGHT
TZOFFSETFROM:-0500
TZOFFSETTO:-0400
TZNAME:EDT
DTSTART:20250309T070000
END:DAYLIGHT
BEGIN:STANDARD
TZOFFSETFROM:-0400
TZOFFSETTO:-0500
TZNAME:EST
DTSTART:20251102T060000
END:STANDARD
BEGIN:DAYLIGHT
TZOFFSETFROM:-0500
TZOFFSETTO:-0400
TZNAME:EDT
DTSTART:20260308T070000
END:DAYLIGHT
BEGIN:STANDARD
TZOFFSETFROM:-0400
TZOFFSETTO:-0500
TZNAME:EST
DTSTART:20261101T060000
END:STANDARD
BEGIN:DAYLIGHT
TZOFFSETFROM:-0500
TZOFFSETTO:-0400
TZNAME:EDT
DTSTART:20270314T070000
END:DAYLIGHT
BEGIN:STANDARD
TZOFFSETFROM:-0400
TZOFFSETTO:-0500
TZNAME:EST
DTSTART:20271107T060000
END:STANDARD
END:VTIMEZONE
BEGIN:VEVENT
DTSTART;TZID=America/New_York:20260305T090000
DTEND;TZID=America/New_York:20260305T170000
DTSTAMP:20260423T113531
CREATED:20260303T015820Z
LAST-MODIFIED:20260303T015822Z
UID:227987-1772701200-1772730000@regenthealthcentre.ca
SUMMARY:Virtual Pilates w Alisun
DESCRIPTION:This is a virtual Pilates class run via ZOOM. It is open to both beginner and intermediate students. You will establish core strength and stability\, balance and coordination\, improved posture and heightened mind-body awareness. \n\n\n\n8 week session runs from March 5 – April 23rd\, 2026 \n\n\n\nSPRING SESSION PRICING: $155+HST OR $300+HST (2 classes/week) \n\n\n\ndrop in fee $25.00 + HST (please book up to 4 hrs in advance or contact us if its last minute!) \n\n\n\nIf you miss a class during the 8-week session\, you can make it up with another class\, any week\, until the end of the session. \n\n\n\n\n\nBook Class
URL:https://regenthealthcentre.ca/class-schedule/virtual-pilates-w-alisun/
END:VEVENT
BEGIN:VEVENT
DTSTART;TZID=America/New_York:20260305T170000
DTEND;TZID=America/New_York:20260305T181500
DTSTAMP:20260423T113532
CREATED:20260303T014041Z
LAST-MODIFIED:20260303T014043Z
UID:227971-1772730000-1772734500@regenthealthcentre.ca
SUMMARY:Beginner's Tai Chi w Sam
DESCRIPTION:Tai Chi is a great tool for releasing stale tensions while developing a better relationship with your body. Learning it challenges coordination and concentration\, and helps initiate a host of healing responses. It is a form of meditation\, and it helps condition the body so that stillness meditation practices\, should you wish to do them\, become easier and more comfortable. This class offers step-by-step instruction in the Tai Chi set. It’s the place to start if you’ve never tried Tai Chi before. Our Tai Chi set is a 108-form. \n\n\n\nOur Tai Chi instructors will be taking a much deserved break\, there will be no classes April 23rd – May 2nd. \n\n\n\n$20.00 + HST single class or an April monthly pass for $60 + HST \n\n\n\n\n\nBook Class
URL:https://regenthealthcentre.ca/class-schedule/beginners-tai-chi-w-sam/
END:VEVENT
END:VCALENDAR