BEGIN:VCALENDAR
VERSION:2.0
PRODID:-//Regent Health Centre - ECPv6.15.18//NONSGML v1.0//EN
CALSCALE:GREGORIAN
METHOD:PUBLISH
X-WR-CALNAME:Regent Health Centre
X-ORIGINAL-URL:https://regenthealthcentre.ca
X-WR-CALDESC:Events for Regent Health Centre
REFRESH-INTERVAL;VALUE=DURATION:PT1H
X-Robots-Tag:noindex
X-PUBLISHED-TTL:PT1H
BEGIN:VTIMEZONE
TZID:America/New_York
BEGIN:DAYLIGHT
TZOFFSETFROM:-0500
TZOFFSETTO:-0400
TZNAME:EDT
DTSTART:20250309T070000
END:DAYLIGHT
BEGIN:STANDARD
TZOFFSETFROM:-0400
TZOFFSETTO:-0500
TZNAME:EST
DTSTART:20251102T060000
END:STANDARD
BEGIN:DAYLIGHT
TZOFFSETFROM:-0500
TZOFFSETTO:-0400
TZNAME:EDT
DTSTART:20260308T070000
END:DAYLIGHT
BEGIN:STANDARD
TZOFFSETFROM:-0400
TZOFFSETTO:-0500
TZNAME:EST
DTSTART:20261101T060000
END:STANDARD
BEGIN:DAYLIGHT
TZOFFSETFROM:-0500
TZOFFSETTO:-0400
TZNAME:EDT
DTSTART:20270314T070000
END:DAYLIGHT
BEGIN:STANDARD
TZOFFSETFROM:-0400
TZOFFSETTO:-0500
TZNAME:EST
DTSTART:20271107T060000
END:STANDARD
END:VTIMEZONE
BEGIN:VEVENT
DTSTART;TZID=America/New_York:20260209T113000
DTEND;TZID=America/New_York:20260209T123000
DTSTAMP:20260423T130423
CREATED:20260127T002933Z
LAST-MODIFIED:20260127T002934Z
UID:227767-1770636600-1770640200@regenthealthcentre.ca
SUMMARY:TAI CHI: Beginner Tai Chi w Marilyn
DESCRIPTION:This is a class for Tai Chi students to practice the things they’ve learned at class\, and for continuing students to practice the content they’ve learned so far. We’ll cover Tai Chi in the first 20 or 30 minutes\, but the final hour will be spent on Lok Hup\, Hsing-I\, Sword\, and Sabre. Bring your weapons! This is time to regain or remember the skills you developed in previous seasons\, or are working on currently. \n\n\n\n$20.00 + HST single class or a monthly pass for $80+HST \n\n\n\n\n\nBook Class
URL:https://regenthealthcentre.ca/class-schedule/tai-chi-beginner-tai-chi-w-marilyn-7/
END:VEVENT
BEGIN:VEVENT
DTSTART;TZID=America/New_York:20260209T130000
DTEND;TZID=America/New_York:20260209T140000
DTSTAMP:20260423T130423
CREATED:20260127T003538Z
LAST-MODIFIED:20260127T003613Z
UID:227773-1770642000-1770645600@regenthealthcentre.ca
SUMMARY:TAI CHI: Qi Gong w Melissa
DESCRIPTION:What the heck is Qigong? In many ways\, it’s the foundation of Tai Chi\, and is its own form of self-healing and meditation. Qigong consists of simple exercises that build strength\, increase flexibility\, and help reset your body and mind to their naturally relaxed and happy state. Unlike Tai Chi\, Qigong is not a martial art\, although some of the movements have martial-art-like qualities. If you’re pressed for time\, and not sure you can attend classes consistently\, or if you’re dealing with a health challenge or stress overload\, this is a great place to start. \n\n\n\nOur Tai Chi instructors are taking a much deserved break and there will be no class April 23rd – May 2nd inclusive \n\n\n\n$20.00 + HST single class or an April monthly pass for $60 + HST \n\n\n\n\n\nBook Class
URL:https://regenthealthcentre.ca/class-schedule/tai-chi-qi-gong-w-melissa-7/
END:VEVENT
BEGIN:VEVENT
DTSTART;TZID=America/New_York:20260209T141500
DTEND;TZID=America/New_York:20260209T154500
DTSTAMP:20260423T130423
CREATED:20260127T004158Z
LAST-MODIFIED:20260127T004158Z
UID:227782-1770646500-1770651900@regenthealthcentre.ca
SUMMARY:TAI CHI: Continuing Tai Chi w Melissa
DESCRIPTION:This class is for people who have already learned the Tai Chi set. Ours is a 108-form set. Even if it’s been a while since you practiced\, you’re very welcome to attend these classes\, as long as you have some familiarity with our form. If you’ve learned most of the set through a Beginner’s class\, this class is appropriate for you\, even if you don’t have the set memorized. \n\n\n\nOur Tai Chi instructors are taking a much deserved break and there will be no class April 23rd – May 2nd inclusive \n\n\n\n$20.00 + HST single class or an April monthly pass for $60 + HST \n\n\n\n\n\nBook Class
URL:https://regenthealthcentre.ca/class-schedule/tai-chi-continuing-tai-chi-w-melissa-18/
END:VEVENT
BEGIN:VEVENT
DTSTART;TZID=America/New_York:20260209T173000
DTEND;TZID=America/New_York:20260209T183000
DTSTAMP:20260423T130423
CREATED:20260127T004620Z
LAST-MODIFIED:20260127T004621Z
UID:227788-1770658200-1770661800@regenthealthcentre.ca
SUMMARY:YOGA: Yoga Nidra w Lynn
DESCRIPTION:This Yoga Nidra series is designed to to help you improve your quality of sleep\, reduce feelings of stress and foster feelings of calmness and wellbeing. \n\n\n\nYoga Nidra is a form of deep relaxation and meditation technique where\, while lying in a comfortable position you will be guided through the state of consciousness between waking and sleeping with instructions similar to a guided meditation. You will be asked to become aware of different bodily sensations\, emotions\, thoughts and images. This deep state of relaxation of body and mind helps us to regulate our interoceptive awareness\, facilitating our ability to come to a balanced state of being; calm and aware. \n\n\n\nThe practice will begin with some gentle movements to release some tension from the body and mind\, followed by the Yoga Nidra practice approximately 40 mins\, then a few minutes to journal or draw mandalas which will help to integrate the Yoga Nidra experience further. \n\n\n\nCost: $20 drop in (including HST) or $177.50 for 10 class pass \n\n\n\n\n\nBook Class
URL:https://regenthealthcentre.ca/class-schedule/yoga-yoga-nidra-w-lynn-5/
END:VEVENT
END:VCALENDAR