BEGIN:VCALENDAR
VERSION:2.0
PRODID:-//Regent Health Centre - ECPv6.15.18//NONSGML v1.0//EN
CALSCALE:GREGORIAN
METHOD:PUBLISH
X-ORIGINAL-URL:https://regenthealthcentre.ca
X-WR-CALDESC:Events for Regent Health Centre
REFRESH-INTERVAL;VALUE=DURATION:PT1H
X-Robots-Tag:noindex
X-PUBLISHED-TTL:PT1H
BEGIN:VTIMEZONE
TZID:America/New_York
BEGIN:DAYLIGHT
TZOFFSETFROM:-0500
TZOFFSETTO:-0400
TZNAME:EDT
DTSTART:20250309T070000
END:DAYLIGHT
BEGIN:STANDARD
TZOFFSETFROM:-0400
TZOFFSETTO:-0500
TZNAME:EST
DTSTART:20251102T060000
END:STANDARD
BEGIN:DAYLIGHT
TZOFFSETFROM:-0500
TZOFFSETTO:-0400
TZNAME:EDT
DTSTART:20260308T070000
END:DAYLIGHT
BEGIN:STANDARD
TZOFFSETFROM:-0400
TZOFFSETTO:-0500
TZNAME:EST
DTSTART:20261101T060000
END:STANDARD
BEGIN:DAYLIGHT
TZOFFSETFROM:-0500
TZOFFSETTO:-0400
TZNAME:EDT
DTSTART:20270314T070000
END:DAYLIGHT
BEGIN:STANDARD
TZOFFSETFROM:-0400
TZOFFSETTO:-0500
TZNAME:EST
DTSTART:20271107T060000
END:STANDARD
END:VTIMEZONE
BEGIN:VEVENT
DTSTART;TZID=America/New_York:20260127T070000
DTEND;TZID=America/New_York:20260127T193000
DTSTAMP:20260423T125843
CREATED:20260121T125015Z
LAST-MODIFIED:20260121T125016Z
UID:227731-1769497200-1769542200@regenthealthcentre.ca
SUMMARY:YOGA: Gentle Yoga Flow w Kim
DESCRIPTION:Gentle Flow Yoga is a class designed for all bodies at any level of mobility\, with or without experience. The intention for this program is to get people breathing deeply and efficiently while moving through their daily activities with less pain and restriction. We focus on building more confident movement through observing and learning from ourselves each and every practice. \n\n\n\nGentle Flow Yoga explores movement linked with our own unique rhythym of breath. Modifications are available. Previous yoga experience is not necessary. Dialogue and feedback are encouraged as a means to deeper understanding of our physical potential and emotional well-being. \n\n\n\nCome and join the growing community of warm and welcoming students in our class \n\n\n\n$20.00 drop-in rate (including HST) or 10 class pass for $177.50 \n\n\n\n\n\nBook Class\n\n\n\nContact Kim
URL:https://regenthealthcentre.ca/class-schedule/yoga-gentle-yoga-flow-w-kim-6/
END:VEVENT
BEGIN:VEVENT
DTSTART;TZID=America/New_York:20260127T090000
DTEND;TZID=America/New_York:20260127T100000
DTSTAMP:20260423T125843
CREATED:20260121T124212Z
LAST-MODIFIED:20260127T004845Z
UID:227725-1769504400-1769508000@regenthealthcentre.ca
SUMMARY:Fascial Flow & Pilates w Alisun
DESCRIPTION:Feeling tight all over? Unexplained muscle pains? Fascial movement can help! This class is a combination of both Pilates and Fascial movement. We strengthen and hydrate the fascial system to promote muscle glide and an ease of motion. These movements will enhance your mobility\, strength and durability and make you feel lighter! All levels are welcome. \n\n\n\n8 week session runs March 2 – April 21st\, 2026 \n\n\n\nSPRING SESSION : $ 155 + HST \n\n\n\ndrop in fee $25.00 + HST (please book 4 hrs in advance\, contact us if its last minute – 12 h cancellation policy applies) \n\n\n\nThis class is run in-person at the Centre as well as online! \n\n\n\nIf you need to miss a scheduled class during your session you can make it up with another class any week during the session. \n\n\n\n\n\nBook Class
URL:https://regenthealthcentre.ca/class-schedule/fascial-flow-pilates-w-alisun-5/
END:VEVENT
BEGIN:VEVENT
DTSTART;TZID=America/New_York:20260127T170000
DTEND;TZID=America/New_York:20260127T181500
DTSTAMP:20260423T125843
CREATED:20260121T124544Z
LAST-MODIFIED:20260121T124545Z
UID:227727-1769533200-1769537700@regenthealthcentre.ca
SUMMARY:TAI CHI: Continuing Tai Chi w Melissa
DESCRIPTION:This class is for people who have already learned the Tai Chi set. Ours is a 108-form set. Even if it’s been a while since you practiced\, you’re very welcome to attend these classes\, as long as you have some familiarity with our form. If you’ve learned most of the set through a Beginner’s class\, this class is appropriate for you\, even if you don’t have the set memorized. \n\n\n\n$20.00 + HST single class or a monthly pass for $80 + HST \n\n\n\n\n\nBook Class
URL:https://regenthealthcentre.ca/class-schedule/tai-chi-continuing-tai-chi-w-melissa-14/
END:VEVENT
END:VCALENDAR