BEGIN:VCALENDAR
VERSION:2.0
PRODID:-//Regent Health Centre - ECPv6.15.18//NONSGML v1.0//EN
CALSCALE:GREGORIAN
METHOD:PUBLISH
X-ORIGINAL-URL:https://regenthealthcentre.ca
X-WR-CALDESC:Events for Regent Health Centre
REFRESH-INTERVAL;VALUE=DURATION:PT1H
X-Robots-Tag:noindex
X-PUBLISHED-TTL:PT1H
BEGIN:VTIMEZONE
TZID:America/New_York
BEGIN:DAYLIGHT
TZOFFSETFROM:-0500
TZOFFSETTO:-0400
TZNAME:EDT
DTSTART:20250309T070000
END:DAYLIGHT
BEGIN:STANDARD
TZOFFSETFROM:-0400
TZOFFSETTO:-0500
TZNAME:EST
DTSTART:20251102T060000
END:STANDARD
BEGIN:DAYLIGHT
TZOFFSETFROM:-0500
TZOFFSETTO:-0400
TZNAME:EDT
DTSTART:20260308T070000
END:DAYLIGHT
BEGIN:STANDARD
TZOFFSETFROM:-0400
TZOFFSETTO:-0500
TZNAME:EST
DTSTART:20261101T060000
END:STANDARD
BEGIN:DAYLIGHT
TZOFFSETFROM:-0500
TZOFFSETTO:-0400
TZNAME:EDT
DTSTART:20270314T070000
END:DAYLIGHT
BEGIN:STANDARD
TZOFFSETFROM:-0400
TZOFFSETTO:-0500
TZNAME:EST
DTSTART:20271107T060000
END:STANDARD
END:VTIMEZONE
BEGIN:VEVENT
DTSTART;TZID=America/New_York:20260103T010000
DTEND;TZID=America/New_York:20260103T020000
DTSTAMP:20260423T145219
CREATED:20260114T131112Z
LAST-MODIFIED:20260114T131837Z
UID:227615-1767402000-1767405600@regenthealthcentre.ca
SUMMARY:TAI CHI: Beginner Tai Chi w Melissa
DESCRIPTION:Tai Chi is a great tool for releasing stale tensions while developing a better relationship with your body. Learning it challenges coordination and concentration\, and helps initiate a host of healing responses. It is a form of meditation\, and it helps condition the body so that stillness meditation practices\, should you wish to do them\, become easier and more comfortable. This class offers step-by-step instruction in the Tai Chi set. It’s the place to start if you’ve never tried Tai Chi before. Our Tai Chi set is a 108-form. \n\n\n\n$20.00 + HST single class or a monthly pass for $80 + HST \n\n\n\n\n\nBook Class
URL:https://regenthealthcentre.ca/class-schedule/tai-chi-beginner-tai-chi-w-melissa-3/
END:VEVENT
END:VCALENDAR