BEGIN:VCALENDAR
VERSION:2.0
PRODID:-//Regent Health Centre - ECPv6.15.18//NONSGML v1.0//EN
CALSCALE:GREGORIAN
METHOD:PUBLISH
X-ORIGINAL-URL:https://regenthealthcentre.ca
X-WR-CALDESC:Events for Regent Health Centre
REFRESH-INTERVAL;VALUE=DURATION:PT1H
X-Robots-Tag:noindex
X-PUBLISHED-TTL:PT1H
BEGIN:VTIMEZONE
TZID:America/New_York
BEGIN:DAYLIGHT
TZOFFSETFROM:-0500
TZOFFSETTO:-0400
TZNAME:EDT
DTSTART:20240310T070000
END:DAYLIGHT
BEGIN:STANDARD
TZOFFSETFROM:-0400
TZOFFSETTO:-0500
TZNAME:EST
DTSTART:20241103T060000
END:STANDARD
BEGIN:DAYLIGHT
TZOFFSETFROM:-0500
TZOFFSETTO:-0400
TZNAME:EDT
DTSTART:20250309T070000
END:DAYLIGHT
BEGIN:STANDARD
TZOFFSETFROM:-0400
TZOFFSETTO:-0500
TZNAME:EST
DTSTART:20251102T060000
END:STANDARD
BEGIN:DAYLIGHT
TZOFFSETFROM:-0500
TZOFFSETTO:-0400
TZNAME:EDT
DTSTART:20260308T070000
END:DAYLIGHT
BEGIN:STANDARD
TZOFFSETFROM:-0400
TZOFFSETTO:-0500
TZNAME:EST
DTSTART:20261101T060000
END:STANDARD
END:VTIMEZONE
BEGIN:VEVENT
DTSTART;TZID=America/New_York:20251223T183000
DTEND;TZID=America/New_York:20251223T193000
DTSTAMP:20260423T161941
CREATED:20251201T112050Z
LAST-MODIFIED:20251201T112403Z
UID:221968-1766514600-1766518200@regenthealthcentre.ca
SUMMARY:YOGA: Gentle Yoga Flow w Kim
DESCRIPTION:Gentle Flow Yoga is a class designed for all bodies at any level of mobility\, with or without experience. The intention for this program is to get people breathing deeply and efficiently while moving through their daily activities with less pain and restriction. We focus on building more confident movement through observing and learning from ourselves each and every practice. \n\n\n\nGentle Flow Yoga explores movement linked with our own unique rhythym of breath. Modifications are available. Previous yoga experience is not necessary. Dialogue and feedback are encouraged as a means to deeper understanding of our physical potential and emotional well-being. \n\n\n\nCome and join the growing community of warm and welcoming students in our class \n\n\n\n$20.00 drop-in rate (including HST) or 10 class pass for $177.50 \n\n\n\n\n\nBook Class\n\n\n\nContact Kim
URL:https://regenthealthcentre.ca/class-schedule/yoga-gentle-yoga-flow-w-kim-2/
END:VEVENT
END:VCALENDAR